BEGIN:VCALENDAR
VERSION:2.0
PRODID:-//Wednesday Nine - ECPv6.11.2.1//NONSGML v1.0//EN
CALSCALE:GREGORIAN
METHOD:PUBLISH
X-WR-CALNAME:Wednesday Nine
X-ORIGINAL-URL:http://www.emmastrasse.de
X-WR-CALDESC:Veranstaltungen für Wednesday Nine
REFRESH-INTERVAL;VALUE=DURATION:PT1H
X-Robots-Tag:noindex
X-PUBLISHED-TTL:PT1H
BEGIN:VTIMEZONE
TZID:Europe/Berlin
BEGIN:DAYLIGHT
TZOFFSETFROM:+0100
TZOFFSETTO:+0200
TZNAME:CEST
DTSTART:20220327T010000
END:DAYLIGHT
BEGIN:STANDARD
TZOFFSETFROM:+0200
TZOFFSETTO:+0100
TZNAME:CET
DTSTART:20221030T010000
END:STANDARD
BEGIN:DAYLIGHT
TZOFFSETFROM:+0100
TZOFFSETTO:+0200
TZNAME:CEST
DTSTART:20230326T010000
END:DAYLIGHT
BEGIN:STANDARD
TZOFFSETFROM:+0200
TZOFFSETTO:+0100
TZNAME:CET
DTSTART:20231029T010000
END:STANDARD
BEGIN:DAYLIGHT
TZOFFSETFROM:+0100
TZOFFSETTO:+0200
TZNAME:CEST
DTSTART:20240331T010000
END:DAYLIGHT
BEGIN:STANDARD
TZOFFSETFROM:+0200
TZOFFSETTO:+0100
TZNAME:CET
DTSTART:20241027T010000
END:STANDARD
BEGIN:DAYLIGHT
TZOFFSETFROM:+0100
TZOFFSETTO:+0200
TZNAME:CEST
DTSTART:20250330T010000
END:DAYLIGHT
BEGIN:STANDARD
TZOFFSETFROM:+0200
TZOFFSETTO:+0100
TZNAME:CET
DTSTART:20251026T010000
END:STANDARD
END:VTIMEZONE
BEGIN:VEVENT
DTSTART;TZID=Europe/Berlin:20251114T190000
DTEND;TZID=Europe/Berlin:20251114T220000
DTSTAMP:20260422T131554
CREATED:20241204T100653Z
LAST-MODIFIED:20250127T100604Z
UID:2716-1763146800-1763157600@www.emmastrasse.de
SUMMARY:Konzert in der Pusta-Stube
DESCRIPTION:Besser als die Pusta-Stube selbst können wir es auch nicht sagen. Daher hier der „geklaute“ Inhalt von der Website der Pusta-Stube. \nIm Rahmen „Kultur in der Pusta-Stube“ veranstalten wir Musikkonzerte\, Lesungen und andere Events. \nUnser Konzept heißt auch 2024: Essen\, Trinken und der Musik lauschen. \nUns liegt sehr am Herzen\, das wir alle gesund bleiben\, deshalb besetzten wir die Plätze in der Stube nicht komplett voll und halten damit die weiterhin nötigen Abstände bei. \nDie Konzerte finden im Innenbereich der Pusta-Stube  statt und sobald es die Witterung im Frühjahr zulässt draußen im Garten. \nWir bitten Euch eure Plätze verbindlich telefonisch zu reservieren. 0421-27 43 32 \nWir bitten Euch eine ½ Stunde vor Konzertbeginn Eure reservierten Plätze einzunehmen\, da wir sie sonst weitergeben.
URL:http://www.emmastrasse.de/event/konzert-in-der-pusta-stube-4/
LOCATION:Pusta Stube \, Oberblockland 5\, Bremen\, Bremen\, 28357\, Deutschland
ATTACH;FMTTYPE=image/jpeg:http://www.emmastrasse.de/wp-content/uploads/2022/03/20210910_192338.jpg
END:VEVENT
BEGIN:VEVENT
DTSTART;TZID=Europe/Berlin:20251105T200000
DTEND;TZID=Europe/Berlin:20251105T223000
DTSTAMP:20260422T131554
CREATED:20241027T190022Z
LAST-MODIFIED:20241028T123557Z
UID:2707-1762372800-1762381800@www.emmastrasse.de
SUMMARY:Wednesday Nine - Live im Meisenfrei
DESCRIPTION:Im besten Live-Musik-Club der Stadt werden wir euch heute Abend einheizen. Wie immer mit den coolen Rocksongs im immer wieder erweitertem Repertoire.
URL:http://www.emmastrasse.de/event/wednesday-nine-live-im-meisenfrei/
LOCATION:Meisenfrei \, Hankenstrasse 18a\, Bremen\, Bremen\, 28195\, Deutschland
ATTACH;FMTTYPE=image/jpeg:http://www.emmastrasse.de/wp-content/uploads/2022/02/Wednesday-Nine-Meisenfrei-13.10.2021-126-von-157-Medium.jpg
END:VEVENT
BEGIN:VEVENT
DTSTART;TZID=Europe/Berlin:20250824T110000
DTEND;TZID=Europe/Berlin:20250824T150000
DTSTAMP:20260422T131554
CREATED:20241024T053012Z
LAST-MODIFIED:20241024T074455Z
UID:2703-1756033200-1756047600@www.emmastrasse.de
SUMMARY:Frühschoppen in der Waldbühne
DESCRIPTION:Ein schöner Sommer-Sonntag. Perfekte Bedingungen für einen Frühschoppen in der Waldbühne im Bürgerpark. Tolle Atmosphäre\, super Ambiente und dazu rockige Musik. Wir freuen uns auf euch!
URL:http://www.emmastrasse.de/event/fruehschoppen-in-der-waldbuehne-2/
LOCATION:Waldbühne Bremen\, Waldbühne\, Parkallee\, Bremen\, 28209\, Deutschland
ATTACH;FMTTYPE=image/jpeg:http://www.emmastrasse.de/wp-content/uploads/2020/10/Waldbuehne.jpg
END:VEVENT
BEGIN:VEVENT
DTSTART;TZID=Europe/Berlin:20250731T170000
DTEND;TZID=Europe/Berlin:20250731T220000
DTSTAMP:20260422T131554
CREATED:20250324T131502Z
LAST-MODIFIED:20250324T131502Z
UID:2784-1753981200-1753999200@www.emmastrasse.de
SUMMARY:Weyhe - Summer in the City
DESCRIPTION:6 Jahre ist es jetzt her\, dass wir in Weyhe beim Summer in the City aufgetreten sind. Damals war das Wetter sensationell (obwohl es bis zum frühen Nachmittag noch geregnet hatte) und es waren laut Weser-Kurier mehr als 3000 Zuschauer da. Was für eine Kulisse! Dieses Mal bestreiten wir den Abend alleine und freuen uns schon jetzt darauf euch alle wieder zu sehen.
URL:http://www.emmastrasse.de/event/weyhe-summer-in-the-city/
ATTACH;FMTTYPE=image/jpeg:http://www.emmastrasse.de/wp-content/uploads/2025/03/909006578_21850_sitc2025.jpg
END:VEVENT
BEGIN:VEVENT
DTSTART;TZID=Europe/Berlin:20250628T190000
DTEND;TZID=Europe/Berlin:20250628T220000
DTSTAMP:20260422T131554
CREATED:20241204T100504Z
LAST-MODIFIED:20241204T100504Z
UID:2714-1751137200-1751148000@www.emmastrasse.de
SUMMARY:Konzert in der Pusta-Stube
DESCRIPTION:Besser als die Pusta-Stube selbst können wir es auch nicht sagen. Daher hier der „geklaute“ Inhalt von der Website der Pusta-Stube. \nIm Rahmen „Kultur in der Pusta-Stube“ veranstalten wir Musikkonzerte\, Lesungen und andere Events. \nUnser Konzept heißt auch 2024: Essen\, Trinken und der Musik lauschen. \nUns liegt sehr am Herzen\, das wir alle gesund bleiben\, deshalb besetzten wir die Plätze in der Stube nicht komplett voll und halten damit die weiterhin nötigen Abstände bei. \nDie Konzerte finden im Innenbereich der Pusta-Stube  statt und sobald es die Witterung im Frühjahr zulässt draußen im Garten. \nWir bitten Euch eure Plätze verbindlich telefonisch zu reservieren. 0421-27 43 32 \nWir bitten Euch eine ½ Stunde vor Konzertbeginn Eure reservierten Plätze einzunehmen\, da wir sie sonst weitergeben.
URL:http://www.emmastrasse.de/event/konzert-in-der-pusta-stube-3/
LOCATION:Pusta Stube \, Oberblockland 5\, Bremen\, Bremen\, 28357\, Deutschland
ATTACH;FMTTYPE=image/jpeg:http://www.emmastrasse.de/wp-content/uploads/2019/01/Pusta-Stube.jpg
END:VEVENT
BEGIN:VEVENT
DTSTART;TZID=Europe/Berlin:20250614T190000
DTEND;TZID=Europe/Berlin:20250614T230000
DTSTAMP:20260422T131554
CREATED:20241024T053043Z
LAST-MODIFIED:20241024T074432Z
UID:2705-1749927600-1749942000@www.emmastrasse.de
SUMMARY:Wednesday Nine - Live in Schwanewede
DESCRIPTION:Diesmal soll es klappen. Beim letzten Besuch in Schwanewede spielte uns das Wetter einen Streich und wir haben drinnen gespielt. Aber diesmal sind wir uns sicher\, dass der Frühsommer gute Temperaturen bringt und wir die Open Air Bühne vor dem Journal rocken. Wir freuen uns auf Euch!
URL:http://www.emmastrasse.de/event/wednesday-nine-live-in-schwanewede/
LOCATION:Bistro Journal \, Langenberg 2\, Schwanewede\, 28790\, Deutschland
ATTACH;FMTTYPE=image/png:http://www.emmastrasse.de/wp-content/uploads/2021/07/logo_journal_30-Jahre.png
END:VEVENT
BEGIN:VEVENT
DTSTART;TZID=Europe/Berlin:20250222T190000
DTEND;TZID=Europe/Berlin:20250222T230000
DTSTAMP:20260422T131554
CREATED:20241114T102951Z
LAST-MODIFIED:20241114T104655Z
UID:2710-1740250800-1740265200@www.emmastrasse.de
SUMMARY:Private Geburtstagsfeier
DESCRIPTION:Wir spielen auch immer wieder gerne auf privaten Feiern\, sei es an Geburtstagen\, Jubiläen\, Hochzeiten oder anderen Gelegenheiten. \nHeute geht es wieder richtig ab in Ritterhude\, und wir freuen uns 2025 in einem tollen Ambiente zu starten!
URL:http://www.emmastrasse.de/event/private-geburtstagsfeier/
ATTACH;FMTTYPE=image/jpeg:http://www.emmastrasse.de/wp-content/uploads/2024/11/OP-vor-MUSTANG.jpg
END:VEVENT
BEGIN:VEVENT
DTSTART;TZID=Europe/Berlin:20241122T190000
DTEND;TZID=Europe/Berlin:20241122T220000
DTSTAMP:20260422T131554
CREATED:20240404T170051Z
LAST-MODIFIED:20240405T105843Z
UID:2678-1732302000-1732312800@www.emmastrasse.de
SUMMARY:Konzert in der Pusta-Stube
DESCRIPTION:Besser als die Pusta-Stube selbst können wir es auch nicht sagen. Daher hier der „geklaute“ Inhalt von der Website der Pusta-Stube. \nIm Rahmen „Kultur in der Pusta-Stube“ veranstalten wir Musikkonzerte\, Lesungen und andere Events. \nUnser Konzept heißt auch 2024: Essen\, Trinken und der Musik lauschen. \nUns liegt sehr am Herzen\, das wir alle gesund bleiben\, deshalb besetzten wir die Plätze in der Stube nicht komplett voll und halten damit die weiterhin nötigen Abstände bei. \nDie Konzerte finden im Innenbereich der Pusta-Stube  statt und sobald es die Witterung im Frühjahr zulässt draußen im Garten. \nWir bitten Euch eure Plätze verbindlich telefonisch zu reservieren. 0421-27 43 32 \nWir bitten Euch eine ½ Stunde vor Konzertbeginn Eure reservierten Plätze einzunehmen\, da wir sie sonst weitergeben.
URL:http://www.emmastrasse.de/event/konzert-in-der-pusta-stube-2/
ATTACH;FMTTYPE=image/jpeg:http://www.emmastrasse.de/wp-content/uploads/2022/03/20210910_192338.jpg
END:VEVENT
BEGIN:VEVENT
DTSTART;TZID=Europe/Berlin:20241023T200000
DTEND;TZID=Europe/Berlin:20241023T223000
DTSTAMP:20260422T131554
CREATED:20231014T113021Z
LAST-MODIFIED:20231014T113021Z
UID:2612-1729713600-1729722600@www.emmastrasse.de
SUMMARY:Konzert im Meisenfrei
DESCRIPTION:Im besten Live-Musik-Club der Stadt werden wir euch heute Abend einheizen. Wie immer mit den coolen Rocksongs im immer wieder erweitertem Repertoire.
URL:http://www.emmastrasse.de/event/konzert-im-meisenfrei/
LOCATION:Meisenfrei \, Hankenstrasse 18a\, Bremen\, Bremen\, 28195\, Deutschland
CATEGORIES:Konzert
ATTACH;FMTTYPE=image/jpeg:http://www.emmastrasse.de/wp-content/uploads/2023/10/wednesday-nine-2023-meisenfrei_53255289919_o-scaled.jpg
END:VEVENT
BEGIN:VEVENT
DTSTART;TZID=Europe/Berlin:20240906T190000
DTEND;TZID=Europe/Berlin:20240906T220000
DTSTAMP:20260422T131554
CREATED:20240404T170008Z
LAST-MODIFIED:20240405T105905Z
UID:2676-1725649200-1725660000@www.emmastrasse.de
SUMMARY:Konzert in der Pusta Stube
DESCRIPTION:Besser als die Pusta-Stube selbst können wir es auch nicht sagen. Daher hier der „geklaute“ Inhalt von der Website der Pusta-Stube. \nIm Rahmen „Kultur in der Pusta-Stube“ veranstalten wir Musikkonzerte\, Lesungen und andere Events. \nUnser Konzept heißt auch 2024: Essen\, Trinken und der Musik lauschen. \nUns liegt sehr am Herzen\, das wir alle gesund bleiben\, deshalb besetzten wir die Plätze in der Stube nicht komplett voll und halten damit die weiterhin nötigen Abstände bei. \nDie Konzerte finden im Innenbereich der Pusta-Stube  statt und sobald es die Witterung im Frühjahr zulässt draußen im Garten. \nWir bitten Euch eure Plätze verbindlich telefonisch zu reservieren. 0421-27 43 32 \nWir bitten Euch eine ½ Stunde vor Konzertbeginn Eure reservierten Plätze einzunehmen\, da wir sie sonst weitergeben.
URL:http://www.emmastrasse.de/event/konzert-in-der-pusta-stube/
LOCATION:Pusta Stube \, Oberblockland 5\, Bremen\, Bremen\, 28357\, Deutschland
ATTACH;FMTTYPE=image/jpeg:http://www.emmastrasse.de/wp-content/uploads/2019/01/Pusta-Stube.jpg
END:VEVENT
BEGIN:VEVENT
DTSTART;TZID=Europe/Berlin:20240825T110000
DTEND;TZID=Europe/Berlin:20240825T150000
DTSTAMP:20260422T131554
CREATED:20231005T110110Z
LAST-MODIFIED:20240403T184259Z
UID:2576-1724583600-1724598000@www.emmastrasse.de
SUMMARY:Waldbühne - Frühschoppen
DESCRIPTION:Die Sommerferien sind vorbei und alle freuen sich darauf noch ein paar schöne Sommertage im Freien zu verbringen. Heute am besten in der Waldbühne im Bürgerpark. Tolle Atmosphäre\, super Ambiente und dazu rockige Musik. Wir freuen uns auf euch!
URL:http://www.emmastrasse.de/event/waldbuehne-fruehschoppen/
LOCATION:Waldbühne Bremen\, Waldbühne\, Parkallee\, Bremen\, 28209\, Deutschland
ATTACH;FMTTYPE=image/jpeg:http://www.emmastrasse.de/wp-content/uploads/2020/10/Waldbuehne.jpg
ORGANIZER;CN="Waldb%C3%BChne Bremen":MAILTO:info@waldbuehne.com
END:VEVENT
BEGIN:VEVENT
DTSTART;TZID=Europe/Berlin:20240804T110000
DTEND;TZID=Europe/Berlin:20240804T140000
DTSTAMP:20260422T131554
CREATED:20231106T074953Z
LAST-MODIFIED:20240801T105957Z
UID:2617-1722769200-1722780000@www.emmastrasse.de
SUMMARY:Gartenkultur Musikfestival
DESCRIPTION:Im Rahmen des Gartenkultur Musikfestivals lädt die Bürgerstiftung Achim zum Sommerkonzert mit Bürgerbrunch in den Rathauspark ein. Die Bühne ist überdacht und somit spielen wir bei jedem Wetter. Wie bekannt gibt es ggf. ja nur falsche Kleidung. ABER: wir hatten bisher immer gutes Wetter bei unseren Open Air Auftritten.  UND: Es gibt keine Getränke oder Speisen zu kaufen. ALSO: Freunde einladen\, Picknickdecke und Picknickkorb packen und einen tollen Sonntag Mittag verbringen. Es wird ein kleiner Unkostenbeitrag erhoben (abhängig davon wie nah an der Bühne\, ob mit Tisch oder auf eigener Decke). Nähere Informationen voraussichtlich ab Mai 2024.
URL:http://www.emmastrasse.de/event/gartenkultur-musikfestival/
END:VEVENT
BEGIN:VEVENT
DTSTART;TZID=Europe/Berlin:20240525T200000
DTEND;TZID=Europe/Berlin:20240525T220000
DTSTAMP:20260422T131554
CREATED:20240304T134225Z
LAST-MODIFIED:20240304T134225Z
UID:2634-1716667200-1716674400@www.emmastrasse.de
SUMMARY:Weinfest Borgfeld
DESCRIPTION:Die besondere Atmosphäre des Stadtteils Borgfeld ist perfekt für ein Weinfest im Frühjahr. Und wir freuen uns ganz besonders hier am Samstag Abend dabei zu sein! Wir sind uns sicher\, auch diesmal wird das Wetter mitspielen und uns mit angenehmen Temperaturen überraschen!
URL:http://www.emmastrasse.de/event/weinfest-borgfeld/
LOCATION:Platz zur Linde\, Platz zur Linde\, Bremen\, Bremen\, Deutschland
ATTACH;FMTTYPE=image/jpeg:http://www.emmastrasse.de/wp-content/uploads/2019/07/BFF44DDF-65DF-4A76-ADD0-07B1EE5B5F71.jpeg
END:VEVENT
BEGIN:VEVENT
DTSTART;TZID=Europe/Berlin:20240525T113000
DTEND;TZID=Europe/Berlin:20240525T140000
DTSTAMP:20260422T131554
CREATED:20240422T163238Z
LAST-MODIFIED:20240522T163300Z
UID:2689-1716636600-1716645600@www.emmastrasse.de
SUMMARY:Neueröffnung Fotoscheune Osterholz-Scharmbeck
DESCRIPTION:Unser Freund Arkadius Rojek hat den großen Schritt gewagt und hat die Fotoscheune in Osterholz-Scharmbeck übernommen. Das muss natürlich gebührend gefeiert werden und  wir freuen uns dabei sein zu dürfen. Das Fest beginnt um 10:00h und wir starten um 11:30h bis ca. 14:00h
URL:http://www.emmastrasse.de/event/neueroeffnung-fotoscheune-osterholz-scharmbeck/
LOCATION:Fotoscheune\, Kirchenstr. 24\, 27711 Osterholz-Scharmbeck\, Deutschland
ATTACH;FMTTYPE=image/png:http://www.emmastrasse.de/wp-content/uploads/2024/05/Bildschirmfoto-2024-05-22-um-18.28.43.png
END:VEVENT
BEGIN:VEVENT
DTSTART;TZID=Europe/Berlin:20240501T110000
DTEND;TZID=Europe/Berlin:20240501T150000
DTSTAMP:20260422T131554
CREATED:20230502T170009Z
LAST-MODIFIED:20240429T115656Z
UID:2685-1714561200-1714575600@www.emmastrasse.de
SUMMARY:Wir eröffnen die Saison 2024
DESCRIPTION:Die Saison in der Waldbühne beginnt jedes Jahr am 1. Mai und auch dieses Jahr können wir gleich so richtig durchstarten. Idyllisch im Bürgerpark gelegen\, spielen wir wieder unter dem ergrünten sattgrünem Blätterdach.
URL:http://www.emmastrasse.de/event/wir-eroeffnen-die-saison-2024/
LOCATION:Waldbühne Bremen\, Waldbühne\, Parkallee\, Bremen\, 28209\, Deutschland
ATTACH;FMTTYPE=image/jpeg:http://www.emmastrasse.de/wp-content/uploads/2020/10/Waldbuehne.jpg
END:VEVENT
BEGIN:VEVENT
DTSTART;TZID=Europe/Berlin:20231209T190000
DTEND;TZID=Europe/Berlin:20231209T230000
DTSTAMP:20260422T131554
CREATED:20221119T195131Z
LAST-MODIFIED:20230902T171714Z
UID:2472-1702148400-1702162800@www.emmastrasse.de
SUMMARY:Benefiz-Weihnachtskonzert
DESCRIPTION:Diesmal alles für einen guten Zweck. Nach dem großen Erfolg kurz vor der Pandemie wird es Zeit für eine Wiederholung des Jingle Bell Rocks. Freut Euch auf ein coole Location\, Weihnachtsdeko\, rockige Weihnachtssongs\, eine Tombola mit einem tollem Hauptgewinn etc. etc. \n\n\n\nDer Einnahmeerlös geht dieses Jahr an den Verband alleinerziehender Mütter und Väter in Bremen. Mehr könnt ihr HIER erfahren. \n\n\n\nUnd über Eventbrite könnt ihr euch sofort Karten sichern. Jetzt kaufen! Das perfekte Nikolausgeschenk!
URL:http://www.emmastrasse.de/event/benefiz-weihnachtskonzert/
LOCATION:Waldbühne Bremen\, Waldbühne\, Parkallee\, Bremen\, 28209\, Deutschland
ATTACH;FMTTYPE=image/jpeg:http://www.emmastrasse.de/wp-content/uploads/2023/09/Bildschirmfoto-2023-09-02-um-19.12.59.jpg
END:VEVENT
BEGIN:VEVENT
DTSTART;TZID=Europe/Berlin:20231124T183000
DTEND;TZID=Europe/Berlin:20231124T223000
DTSTAMP:20260422T131554
CREATED:20230927T105409Z
LAST-MODIFIED:20230927T105409Z
UID:2570-1700850600-1700865000@www.emmastrasse.de
SUMMARY:Wednesday Nine - Pusta Stube
DESCRIPTION:Jedes Jahr freuen wir uns wieder in dieser coolen Location zu spielen. Die Atmosphäre ist mit keinem anderen Ort in Bremen vergleichbar und Kornelia verpflegt Gäste und Musiker immer aufs Beste. \nUnd hier ist es immer angeraten zu reservieren und rechtzeitig zu erscheinen. \nTelefon: 0421-27 43 32 \n 
URL:http://www.emmastrasse.de/event/wednesday-nine-pusta-stube/
LOCATION:Pusta Stube \, Oberblockland 5\, Bremen\, Bremen\, 28357\, Deutschland
ATTACH;FMTTYPE=image/jpeg:http://www.emmastrasse.de/wp-content/uploads/2019/01/Pusta-Stube.jpg
END:VEVENT
BEGIN:VEVENT
DTSTART;TZID=Europe/Berlin:20231011T200000
DTEND;TZID=Europe/Berlin:20231011T230000
DTSTAMP:20260422T131554
CREATED:20221119T193838Z
LAST-MODIFIED:20230502T165530Z
UID:2469-1697054400-1697065200@www.emmastrasse.de
SUMMARY:Meisenfrei - Live
DESCRIPTION:Seit einigen Jahren spielen wir hier im Oktober – natürlich immer Mittwochs. Diesmal bringen wir Euch unser neues 2023 Programm mit und wir sind uns sicher\, dass ihr begeistert abfeiern werdet.
URL:http://www.emmastrasse.de/event/meisenfrei-live/
LOCATION:Meisenfrei \, Hankenstrasse 18a\, Bremen\, Bremen\, 28195\, Deutschland
ATTACH;FMTTYPE=image/jpeg:http://www.emmastrasse.de/wp-content/uploads/2022/02/wednesday-nine-2022-meisenfrei_51890100437_o.jpg
END:VEVENT
BEGIN:VEVENT
DTSTART;TZID=Europe/Berlin:20231001T113000
DTEND;TZID=Europe/Berlin:20231001T150000
DTSTAMP:20260422T131554
CREATED:20230502T165212Z
LAST-MODIFIED:20230924T091950Z
UID:2516-1696159800-1696172400@www.emmastrasse.de
SUMMARY:Abgesagt - Wir schließen die Saison 2023 - Abgesagt
DESCRIPTION:Der Bremen-Marathon macht der Waldbühne und uns leider einen Strich durch die Rechnung. Am 1. Oktober findet der Bremen Marathon statt und am Vormittag ist die Parkallee beidseitig für den Fahrzeugverkehr gesperrt. Damit eröffnet die Waldbühne am Sonntag erst später und der Frühschoppen entfällt leider. Wir sehen uns hoffentlich alle beim Benefizkonzert! \nDie Saison in der Waldbühne beginnt jedes Jahr am 1. Mai und auch dieses Jahr können wir gleich so richtig durchstarten. Idyllisch im Bürgerpark gelegen\, spielen wir wieder unter dem ergrünten sattgrünen leuchtenden Blätterdach. \n\n\n\nDas war der Text zur Saisoneröffnung am 1. Mai 23. Dieses Jahr schließen wir die Saison auch ab und hoffen\, dass uns der Herbst mit dem Wetter genauso verwöhnt\, wie zu Beginn des Jahres.
URL:http://www.emmastrasse.de/event/wir-schliessen-die-saison-2023/
LOCATION:Waldbühne Bremen\, Waldbühne\, Parkallee\, Bremen\, 28209\, Deutschland
ATTACH;FMTTYPE=image/jpeg:http://www.emmastrasse.de/wp-content/uploads/2020/10/Waldbuehne.jpg
END:VEVENT
BEGIN:VEVENT
DTSTART;TZID=Europe/Berlin:20230930T190000
DTEND;TZID=Europe/Berlin:20230930T230000
DTSTAMP:20260422T131554
CREATED:20230902T171010Z
LAST-MODIFIED:20230902T171010Z
UID:2557-1696100400-1696114800@www.emmastrasse.de
SUMMARY:Firmenfeier - Niedersachsenhalle - Verden
DESCRIPTION:Geschlossene Veranstaltung  \nWir haben schon viele Feiern gerockt und Firmenevents gehören zu den Auftritten\, die uns immer ganz besonders motivieren. Ein gut gelauntes zum Feiern aufgelegtes Publikum und eine Stimmung die immer sehr ausgelassen ist. Zur Abrundung bietet sich dann noch ein/e DJane an\, um vor und nach dem Konzert anzuheizen bzw. auch wieder runterzufahren. \n  \n 
URL:http://www.emmastrasse.de/event/firmenfeier-niedersachsenhalle-verden/
LOCATION:Niedersachsenhalle Verden\, Lindhooper Str. 92\, Verden\, Niedersachsen\, 27283
CATEGORIES:Privatfeier
ATTACH;FMTTYPE=image/jpeg:http://www.emmastrasse.de/wp-content/uploads/2023/09/Jede-Party.jpg
END:VEVENT
BEGIN:VEVENT
DTSTART;TZID=Europe/Berlin:20230501T113000
DTEND;TZID=Europe/Berlin:20230501T150000
DTSTAMP:20260422T131554
CREATED:20221119T192753Z
LAST-MODIFIED:20221119T194045Z
UID:2467-1682940600-1682953200@www.emmastrasse.de
SUMMARY:Wir eröffnen die Saison
DESCRIPTION:Die Saison in der Waldbühne beginnt jedes Jahr am 1. Mai und auch dieses Jahr können wir gleich so richtig durchstarten. Idyllisch im Bürgerpark gelegen\, spielen wir wieder unter dem ergrünten sattgrünen leuchtenden Blätterdach.
URL:http://www.emmastrasse.de/event/wir-eroeffnen-die-saison/
LOCATION:Waldbühne Bremen\, Waldbühne\, Parkallee\, Bremen\, 28209\, Deutschland
ATTACH;FMTTYPE=image/jpeg:http://www.emmastrasse.de/wp-content/uploads/2020/10/Waldbuehne.jpg
END:VEVENT
BEGIN:VEVENT
DTSTART;TZID=Europe/Berlin:20230430T190000
DTEND;TZID=Europe/Berlin:20230430T233000
DTSTAMP:20260422T131554
CREATED:20230228T070000Z
LAST-MODIFIED:20230228T120043Z
UID:2502-1682881200-1682897400@www.emmastrasse.de
SUMMARY:Rock in den Mai
DESCRIPTION:Wednesday Nine und Dize rocken gemeinsam bei den Motorradfreunden Bremerhaven.  \n\n\n\nEine coole Location und eine tolle Atmosphäre und dazu Rock und Metal. Das garantiert einen sensationellen Abend!
URL:http://www.emmastrasse.de/event/rock-in-den-mai/
LOCATION:Motorradfreunde Bremerhaven\, Weserstr. 262 a\, Bremerhaven\, 27572\, Deutschland
ATTACH;FMTTYPE=image/jpeg:http://www.emmastrasse.de/wp-content/uploads/2023/02/PHOTO-2023-02-28-09-48-24.jpg
END:VEVENT
BEGIN:VEVENT
DTSTART;TZID=Europe/Berlin:20230421T190000
DTEND;TZID=Europe/Berlin:20230421T220000
DTSTAMP:20260422T131554
CREATED:20221119T192327Z
LAST-MODIFIED:20221119T194348Z
UID:2465-1682103600-1682114400@www.emmastrasse.de
SUMMARY:Pusta-Stube - das Original
DESCRIPTION:Wer uns schon einmal in der Pusta-Stube gesehen hat\, weis was für eine Stimmung hier jedes Mal herrscht. Und wie immer gilt: reservieren ist Pflicht; ansonsten wird man voraussichtlich keinen Einlass bekommen.
URL:http://www.emmastrasse.de/event/pusta-stube-das-original/
LOCATION:Pusta Stube \, Oberblockland 5\, Bremen\, Bremen\, 28357\, Deutschland
ATTACH;FMTTYPE=image/jpeg:http://www.emmastrasse.de/wp-content/uploads/2021/07/Wuemme-Zeitung-9.-Juli-2021.jpg
END:VEVENT
BEGIN:VEVENT
DTSTART;TZID=Europe/Berlin:20221209T190000
DTEND;TZID=Europe/Berlin:20221209T220000
DTSTAMP:20260422T131554
CREATED:20220714T064414Z
LAST-MODIFIED:20221207T174310Z
UID:2428-1670612400-1670623200@www.emmastrasse.de
SUMMARY:Abgesagt ! Rock im Bistro Journal
DESCRIPTION:Diesen Auftritt müssen wir leider in das nächste Jahr schieben. Unsere Nachtigall hat sich vorübergehend zu einer Nebelkrähe gewandelt und kämpft mit dem allseits bekannten Pandemie Virus. Sarah ist schon wieder auf dem Weg der Besserung und nächstes Jahr geht es dann um so rockiger zu.
URL:http://www.emmastrasse.de/event/rock-im-bistro-journal/
LOCATION:Bistro Journal \, Langenberg 2\, Schwanewede\, 28790\, Deutschland
ATTACH;FMTTYPE=image/png:http://www.emmastrasse.de/wp-content/uploads/2021/07/logo_journal_30-Jahre.png
END:VEVENT
BEGIN:VEVENT
DTSTART;TZID=Europe/Berlin:20221028T190000
DTEND;TZID=Europe/Berlin:20221028T223000
DTSTAMP:20260422T131554
CREATED:20220303T095909Z
LAST-MODIFIED:20220303T095909Z
UID:2396-1666983600-1666996200@www.emmastrasse.de
SUMMARY:Konzert Pusta-Stube
DESCRIPTION:Da fällt der Stress der Woche ab\, und das Wochenende wird mit einem Konzert in der Pusta-Stube eingeläutet. Die letzten Male war es immer rammelvoll und daher können wir auch diesmal nur empfehlen vor bei Konni (der Gastgeberin und Eigentümerin) telefonisch einen Platz zu reservieren.
URL:http://www.emmastrasse.de/event/konzert-pusta-stube/
LOCATION:Pusta Stube \, Oberblockland 5\, Bremen\, Bremen\, 28357\, Deutschland
ATTACH;FMTTYPE=image/jpeg:http://www.emmastrasse.de/wp-content/uploads/2022/03/20210910_192338.jpg
END:VEVENT
BEGIN:VEVENT
DTSTART;TZID=Europe/Berlin:20221007T193000
DTEND;TZID=Europe/Berlin:20221007T223000
DTSTAMP:20260422T131554
CREATED:20220714T064137Z
LAST-MODIFIED:20220714T082400Z
UID:2426-1665171000-1665181800@www.emmastrasse.de
SUMMARY:Wednesday Nine im Arberger Hof
DESCRIPTION:Wednesday Nine erstmalig im Arberger Hof. Rock Musik – von Deep Purple bis Volbeat\, von Black Sabbath bis Meredith Brooks. Gute Laune und Lust zum Tanzen ist garantiert.
URL:http://www.emmastrasse.de/event/wednesday-nine-im-arberger-hof/
LOCATION:Arberger Hof\, Arberger Heerstr. 78\, Bremen\, 28307\, Deutschland
ATTACH;FMTTYPE=image/jpeg:http://www.emmastrasse.de/wp-content/uploads/2022/07/Arberger-Hof.jpg
END:VEVENT
BEGIN:VEVENT
DTSTART;TZID=Europe/Berlin:20221005T200000
DTEND;TZID=Europe/Berlin:20221005T223000
DTSTAMP:20260422T131554
CREATED:20211102T074839Z
LAST-MODIFIED:20211102T074839Z
UID:2128-1665000000-1665009000@www.emmastrasse.de
SUMMARY:Wednesday Nine im Meisenfrei
DESCRIPTION:Der Mann am Mischpult sorgt für einen sensationellen Sound\, der Euch auf die Tanzfläche zwingt. Eine der besten Veranstaltungsadressen der Stadt und wir dürfen Euch hier – natürlich an einem Mittwoch – einheizen. Lasst uns gemeinsam abfeiern!
URL:http://www.emmastrasse.de/event/meisenfrei-mischpult-tanzflaeche/
LOCATION:Meisenfrei \, Hankenstrasse 18a\, Bremen\, Bremen\, 28195\, Deutschland
ATTACH;FMTTYPE=image/jpeg:http://www.emmastrasse.de/wp-content/uploads/2020/11/Meisenfrei_Oktober_2020_5.jpg
END:VEVENT
BEGIN:VEVENT
DTSTART;TZID=Europe/Berlin:20220828T113000
DTEND;TZID=Europe/Berlin:20220828T153000
DTSTAMP:20260422T131554
CREATED:20220507T114830Z
LAST-MODIFIED:20220507T114831Z
UID:2414-1661686200-1661700600@www.emmastrasse.de
SUMMARY:Waldbühne Bremen
DESCRIPTION:Die Sommerferien sind vorbei und Ihr seid alle noch im Sommermodus und in Feierlaune? Dies sind beste Voraussetzungen\, um hier am Sonntagmorgen mit rockiger Musik Kraft für die ganze Woche zu tanken. Wir freuen uns auf viele erholte und sonnengebräunte Gesichter und darauf gemeinsam mit Euch abzurocken.
URL:http://www.emmastrasse.de/event/sommerferien-feierlaune-bremen/
LOCATION:Waldbühne Bremen\, Waldbühne\, Parkallee\, Bremen\, 28209\, Deutschland
ATTACH;FMTTYPE=image/jpeg:http://www.emmastrasse.de/wp-content/uploads/2020/10/Waldbuehne.jpg
ORGANIZER;CN="Waldb%C3%BChne Bremen":MAILTO:info@waldbuehne.com
END:VEVENT
BEGIN:VEVENT
DTSTART;TZID=Europe/Berlin:20220709T190000
DTEND;TZID=Europe/Berlin:20220709T220000
DTSTAMP:20260422T131554
CREATED:20210719T163555Z
LAST-MODIFIED:20210719T163837Z
UID:2085-1657393200-1657404000@www.emmastrasse.de
SUMMARY:Bistro Journal - Open Air
DESCRIPTION:Bisher war uns der Wettergott bei Open-Air Konzerten immer gnädig und es war eher zu heiß als zu kalt. Aber wie es auch kommen mag – wir werden Euch gehörig einheizen.
URL:http://www.emmastrasse.de/event/bistro-journal-open-air/
LOCATION:Bistro Journal \, Langenberg 2\, Schwanewede\, 28790\, Deutschland
ATTACH;FMTTYPE=image/png:http://www.emmastrasse.de/wp-content/uploads/2021/07/logo_journal_30-Jahre.png
END:VEVENT
BEGIN:VEVENT
DTSTART;TZID=Europe/Berlin:20220708T180000
DTEND;TZID=Europe/Berlin:20220708T213000
DTSTAMP:20260422T131554
CREATED:20220220T145846Z
LAST-MODIFIED:20220401T072551Z
UID:2348-1657303200-1657315800@www.emmastrasse.de
SUMMARY:Privat - Rock am See
DESCRIPTION:Geschlossene Veranstaltung! \n\n\n\nWir spielen auch gerne auch auf privaten Feiern und Festen und diesmal spielen wir in einer sehr schönen Location. Der Garten grenzt direkt an einen See und ist idyllisch gelegen.  \n\n\n\nMit Rücksicht auf die anderen Anlieger\, fangen wir diesmal etwas früher an und hören (wahrscheinlich ????) auch etwas früher auf. \n\n\n\nAuch auf Eurem Gartenfest\, Polterhochzeit\, Hochzeit oder 50. Geburtstag bringen wir die Menge „zum Kochen“. Wir finden für fast alle Größen und Gelegenheiten eine passende Lösung. Sprecht uns gerne an. \n\n\n\n(PS: Das schöne Bild stammt von Usien und wurde hier veröffentlicht).
URL:http://www.emmastrasse.de/event/rock-am-see/
ATTACH;FMTTYPE=image/jpeg:http://www.emmastrasse.de/wp-content/uploads/2022/02/Hinterbruehler_See.jpg
END:VEVENT
END:VCALENDAR